Package: CTDquerier Version: 2.17.0 Command: /home/biocbuild/bbs-3.22-bioc/R/bin/R CMD check --install=check:CTDquerier.install-out.txt --library=/home/biocbuild/bbs-3.22-bioc/R/site-library --timings CTDquerier_2.17.0.tar.gz StartedAt: 2025-10-14 22:46:20 -0400 (Tue, 14 Oct 2025) EndedAt: 2025-10-14 22:48:56 -0400 (Tue, 14 Oct 2025) EllapsedTime: 156.1 seconds RetCode: 0 Status: WARNINGS CheckDir: CTDquerier.Rcheck Warnings: 1