Package: CTDquerier Version: 2.19.0 Command: /home/biocbuild/bbs-3.23-bioc/R/bin/R CMD check --install=check:CTDquerier.install-out.txt --library=/home/biocbuild/bbs-3.23-bioc/R/site-library --timings CTDquerier_2.19.0.tar.gz StartedAt: 2025-11-20 22:31:32 -0500 (Thu, 20 Nov 2025) EndedAt: 2025-11-20 22:33:13 -0500 (Thu, 20 Nov 2025) EllapsedTime: 101.1 seconds RetCode: 0 Status: WARNINGS CheckDir: CTDquerier.Rcheck Warnings: 1