Package: CSSQ Version: 1.23.0 Command: /home/biocbuild/bbs-3.23-bioc/R/bin/R CMD INSTALL CSSQ StartedAt: 2025-11-03 15:38:43 -0500 (Mon, 03 Nov 2025) EndedAt: 2025-11-03 15:39:19 -0500 (Mon, 03 Nov 2025) EllapsedTime: 36.0 seconds RetCode: 0 Status: OK