Package: CSSQ Version: 1.23.0 Command: /home/biocbuild/bbs-3.23-bioc/R/bin/R CMD check --install=check:CSSQ.install-out.txt --library=/home/biocbuild/bbs-3.23-bioc/R/site-library --timings CSSQ_1.23.0.tar.gz StartedAt: 2025-11-04 22:18:45 -0500 (Tue, 04 Nov 2025) EndedAt: 2025-11-04 22:23:27 -0500 (Tue, 04 Nov 2025) EllapsedTime: 282.2 seconds RetCode: 0 Status: OK CheckDir: CSSQ.Rcheck Warnings: 0