Package: CSSQ Version: 1.23.0 Command: /home/biocbuild/bbs-3.23-bioc/R/bin/R CMD build --keep-empty-dirs --no-resave-data CSSQ StartedAt: 2025-11-03 16:59:53 -0500 (Mon, 03 Nov 2025) EndedAt: 2025-11-03 17:00:55 -0500 (Mon, 03 Nov 2025) EllapsedTime: 62.0 seconds RetCode: 0 Status: OK PackageFile: CSSQ_1.23.0.tar.gz PackageFileSize: 866.4 KiB