Package: CSSQ Version: 1.21.0 Command: /Library/Frameworks/R.framework/Resources/bin/R CMD check --install=check:CSSQ.install-out.txt --library=/Library/Frameworks/R.framework/Resources/library --no-vignettes --timings CSSQ_1.21.0.tar.gz StartedAt: 2025-10-13 21:11:01 -0400 (Mon, 13 Oct 2025) EndedAt: 2025-10-13 21:15:58 -0400 (Mon, 13 Oct 2025) EllapsedTime: 297.5 seconds RetCode: 0 Status: OK CheckDir: CSSQ.Rcheck Warnings: 0