Package: CSOA Version: 0.99.2 Command: /home/biocbuild/R/R/bin/R CMD INSTALL CSOA StartedAt: 2025-10-02 20:39:46 -0000 (Thu, 02 Oct 2025) EndedAt: 2025-10-02 20:40:39 -0000 (Thu, 02 Oct 2025) EllapsedTime: 52.6 seconds RetCode: 0 Status: OK