Package: CSOA Version: 0.99.2 Command: /home/biocbuild/R/R/bin/R CMD build --keep-empty-dirs --no-resave-data CSOA StartedAt: 2025-10-02 23:14:34 -0000 (Thu, 02 Oct 2025) EndedAt: 2025-10-02 23:18:34 -0000 (Thu, 02 Oct 2025) EllapsedTime: 240.5 seconds RetCode: 0 Status: OK PackageFile: CSOA_0.99.2.tar.gz PackageFileSize: 1.548 MiB