Package: CSOA Version: 0.99.2 Command: /home/biocbuild/bbs-3.22-bioc/R/bin/R CMD INSTALL CSOA StartedAt: 2025-10-03 15:17:43 -0400 (Fri, 03 Oct 2025) EndedAt: 2025-10-03 15:18:20 -0400 (Fri, 03 Oct 2025) EllapsedTime: 36.5 seconds RetCode: 0 Status: OK