Package: CSOA Version: 0.99.2 Command: /home/biocbuild/bbs-3.22-bioc/R/bin/R CMD check --install=check:CSOA.install-out.txt --library=/home/biocbuild/bbs-3.22-bioc/R/site-library --timings CSOA_0.99.2.tar.gz StartedAt: 2025-10-03 22:43:55 -0400 (Fri, 03 Oct 2025) EndedAt: 2025-10-03 22:52:32 -0400 (Fri, 03 Oct 2025) EllapsedTime: 516.5 seconds RetCode: 0 Status: OK CheckDir: CSOA.Rcheck Warnings: 0