Package: CSOA Version: 1.1.0 Command: /home/biocbuild/bbs-3.23-bioc/R/bin/R CMD INSTALL CSOA StartedAt: 2025-10-31 15:25:09 -0400 (Fri, 31 Oct 2025) EndedAt: 2025-10-31 15:25:46 -0400 (Fri, 31 Oct 2025) EllapsedTime: 37.3 seconds RetCode: 0 Status: OK