Package: CSOA Version: 1.1.0 Command: /home/biocbuild/bbs-3.23-bioc/R/bin/R CMD check --install=check:CSOA.install-out.txt --library=/home/biocbuild/bbs-3.23-bioc/R/site-library --timings CSOA_1.1.0.tar.gz StartedAt: 2025-10-30 20:44:34 -0400 (Thu, 30 Oct 2025) EndedAt: 2025-10-30 20:52:36 -0400 (Thu, 30 Oct 2025) EllapsedTime: 481.8 seconds RetCode: 0 Status: OK CheckDir: CSOA.Rcheck Warnings: 0