Package: CSOA Version: 1.1.0 Command: /home/biocbuild/bbs-3.23-bioc/R/bin/R CMD build --keep-empty-dirs --no-resave-data CSOA StartedAt: 2025-10-30 16:42:33 -0400 (Thu, 30 Oct 2025) EndedAt: 2025-10-30 16:44:53 -0400 (Thu, 30 Oct 2025) EllapsedTime: 140.1 seconds RetCode: 0 Status: OK PackageFile: CSOA_1.1.0.tar.gz PackageFileSize: 2.739 MiB