Package: CSOA Version: 0.99.2 Command: /Library/Frameworks/R.framework/Resources/bin/R CMD INSTALL CSOA StartedAt: 2025-10-03 15:20:02 -0400 (Fri, 03 Oct 2025) EndedAt: 2025-10-03 15:20:59 -0400 (Fri, 03 Oct 2025) EllapsedTime: 56.9 seconds RetCode: 0 Status: OK