Package: CSOA Version: 0.99.2 Command: /Library/Frameworks/R.framework/Resources/bin/R CMD check --install=check:CSOA.install-out.txt --library=/Library/Frameworks/R.framework/Resources/library --no-vignettes --timings CSOA_0.99.2.tar.gz StartedAt: 2025-10-21 21:15:06 -0400 (Tue, 21 Oct 2025) EndedAt: 2025-10-21 21:21:17 -0400 (Tue, 21 Oct 2025) EllapsedTime: 370.9 seconds RetCode: 0 Status: OK CheckDir: CSOA.Rcheck Warnings: 0