Package: CSOA Version: 0.99.2 Command: /Library/Frameworks/R.framework/Resources/bin/R CMD build --keep-empty-dirs --no-resave-data CSOA StartedAt: 2025-10-03 16:35:33 -0400 (Fri, 03 Oct 2025) EndedAt: 2025-10-03 16:38:58 -0400 (Fri, 03 Oct 2025) EllapsedTime: 205.0 seconds RetCode: 0 Status: OK PackageFile: CSOA_0.99.2.tar.gz PackageFileSize: 2.795 MiB