Package: CSOA Version: 0.99.2 Command: rm -rf CSOA.buildbin-libdir && mkdir CSOA.buildbin-libdir && /Users/biocbuild/BBS/utils/build-universal.sh CSOA_0.99.2.tar.gz /Library/Frameworks/R.framework/Resources/bin/R CSOA.buildbin-libdir StartedAt: 2025-10-04 02:00:27 -0400 (Sat, 04 Oct 2025) EndedAt: 2025-10-04 02:01:27 -0400 (Sat, 04 Oct 2025) EllapsedTime: 60.1 seconds RetCode: 0 Status: OK PackageFile: CSOA_0.99.2.tgz PackageFileSize: 2.879 MiB