Package: CSOA Version: 0.99.2 Command: /Library/Frameworks/R.framework/Resources/bin/R CMD check --install=check:CSOA.install-out.txt --library=/Library/Frameworks/R.framework/Resources/library --no-vignettes --timings CSOA_0.99.2.tar.gz StartedAt: 2025-10-03 18:57:55 -0400 (Fri, 03 Oct 2025) EndedAt: 2025-10-03 19:00:07 -0400 (Fri, 03 Oct 2025) EllapsedTime: 132.6 seconds RetCode: 0 Status: OK CheckDir: CSOA.Rcheck Warnings: 0