Package: CSOA Version: 0.99.2 Command: rm -rf CSOA.buildbin-libdir && mkdir CSOA.buildbin-libdir && /Users/biocbuild/BBS/utils/build-universal.sh CSOA_0.99.2.tar.gz /Library/Frameworks/R.framework/Resources/bin/R CSOA.buildbin-libdir StartedAt: 2025-10-03 22:35:53 -0400 (Fri, 03 Oct 2025) EndedAt: 2025-10-03 22:36:10 -0400 (Fri, 03 Oct 2025) EllapsedTime: 17.3 seconds RetCode: 0 Status: OK PackageFile: CSOA_0.99.2.tgz PackageFileSize: 2.881 MiB