Package: CSAR Version: 1.61.1 Command: F:\biocbuild\bbs-3.22-bioc\R\bin\R.exe CMD INSTALL CSAR StartedAt: 2025-08-14 17:02:27 -0400 (Thu, 14 Aug 2025) EndedAt: 2025-08-14 17:02:46 -0400 (Thu, 14 Aug 2025) EllapsedTime: 19.2 seconds RetCode: 0 Status: OK