Package: CSAR Version: 1.61.1 Command: chmod a+r CSAR -R && F:\biocbuild\bbs-3.22-bioc\R\bin\R.exe CMD build --keep-empty-dirs --no-resave-data CSAR StartedAt: 2025-08-14 19:23:07 -0400 (Thu, 14 Aug 2025) EndedAt: 2025-08-14 19:23:53 -0400 (Thu, 14 Aug 2025) EllapsedTime: 45.8 seconds RetCode: 0 Status: OK PackageFile: CSAR_1.61.1.tar.gz PackageFileSize: 112.1 KiB