Package: CSAR Version: 1.61.1 Command: rm -rf CSAR.buildbin-libdir && mkdir CSAR.buildbin-libdir && F:\biocbuild\bbs-3.22-bioc\R\bin\R.exe CMD INSTALL --build --library=CSAR.buildbin-libdir CSAR_1.61.1.tar.gz StartedAt: 2025-08-15 10:03:28 -0400 (Fri, 15 Aug 2025) EndedAt: 2025-08-15 10:03:44 -0400 (Fri, 15 Aug 2025) EllapsedTime: 15.6 seconds RetCode: 0 Status: OK PackageFile: CSAR_1.61.1.zip PackageFileSize: 190.5 KiB