Package: CSAR Version: 1.63.0 Command: /home/biocbuild/bbs-3.23-bioc/R/bin/R CMD INSTALL CSAR StartedAt: 2025-11-07 15:58:15 -0500 (Fri, 07 Nov 2025) EndedAt: 2025-11-07 15:58:23 -0500 (Fri, 07 Nov 2025) EllapsedTime: 8.1 seconds RetCode: 0 Status: OK