Package: CSAR Version: 1.63.0 Command: /home/biocbuild/bbs-3.23-bioc/R/bin/R CMD check --install=check:CSAR.install-out.txt --library=/home/biocbuild/bbs-3.23-bioc/R/site-library --timings CSAR_1.63.0.tar.gz StartedAt: 2025-11-06 22:17:09 -0500 (Thu, 06 Nov 2025) EndedAt: 2025-11-06 22:19:33 -0500 (Thu, 06 Nov 2025) EllapsedTime: 143.2 seconds RetCode: 0 Status: OK CheckDir: CSAR.Rcheck Warnings: 0