Package: CSAR Version: 1.63.0 Command: /home/biocbuild/bbs-3.23-bioc/R/bin/R CMD build --keep-empty-dirs --no-resave-data CSAR StartedAt: 2025-11-06 16:59:51 -0500 (Thu, 06 Nov 2025) EndedAt: 2025-11-06 17:00:15 -0500 (Thu, 06 Nov 2025) EllapsedTime: 24.0 seconds RetCode: 0 Status: OK PackageFile: CSAR_1.63.0.tar.gz PackageFileSize: 233.2 KiB