Package: CRImage Version: 1.57.0 Command: F:\biocbuild\bbs-3.22-bioc\R\bin\R.exe CMD INSTALL CRImage StartedAt: 2025-08-14 15:37:53 -0400 (Thu, 14 Aug 2025) EndedAt: 2025-08-14 15:38:24 -0400 (Thu, 14 Aug 2025) EllapsedTime: 30.8 seconds RetCode: 0 Status: OK