Package: CRImage Version: 1.59.0 Command: /home/biocbuild/bbs-3.23-bioc/R/bin/R CMD INSTALL CRImage StartedAt: 2025-11-19 15:15:54 -0500 (Wed, 19 Nov 2025) EndedAt: 2025-11-19 15:16:04 -0500 (Wed, 19 Nov 2025) EllapsedTime: 10.0 seconds RetCode: 0 Status: OK