Package: CRImage Version: 1.59.0 Command: /Library/Frameworks/R.framework/Resources/bin/R CMD check --install=check:CRImage.install-out.txt --library=/Library/Frameworks/R.framework/Resources/library --no-vignettes --timings CRImage_1.59.0.tar.gz StartedAt: 2025-11-27 19:20:31 -0500 (Thu, 27 Nov 2025) EndedAt: 2025-11-27 19:21:12 -0500 (Thu, 27 Nov 2025) EllapsedTime: 40.5 seconds RetCode: 0 Status: OK CheckDir: CRImage.Rcheck Warnings: 0