Package: CRISPRseek Version: 1.51.0 Command: /home/biocbuild/bbs-3.23-bioc/R/bin/R CMD build --keep-empty-dirs --no-resave-data CRISPRseek StartedAt: 2025-11-05 17:05:45 -0500 (Wed, 05 Nov 2025) EndedAt: 2025-11-05 17:08:33 -0500 (Wed, 05 Nov 2025) EllapsedTime: 168.1 seconds RetCode: 0 Status: OK PackageFile: CRISPRseek_1.51.0.tar.gz PackageFileSize: 11.83 MiB