Package: CRISPRseek Version: 1.49.1 Command: /Library/Frameworks/R.framework/Resources/bin/R CMD INSTALL CRISPRseek StartedAt: 2025-10-10 15:39:54 -0400 (Fri, 10 Oct 2025) EndedAt: 2025-10-10 15:40:51 -0400 (Fri, 10 Oct 2025) EllapsedTime: 57.5 seconds RetCode: 0 Status: OK