Package: CRISPRseek Version: 1.49.1 Command: /Library/Frameworks/R.framework/Resources/bin/R CMD build --keep-empty-dirs --no-resave-data CRISPRseek StartedAt: 2025-10-10 16:41:29 -0400 (Fri, 10 Oct 2025) EndedAt: 2025-10-10 16:44:32 -0400 (Fri, 10 Oct 2025) EllapsedTime: 182.6 seconds RetCode: 0 Status: OK PackageFile: CRISPRseek_1.49.1.tar.gz PackageFileSize: 11.84 MiB