Package: CRISPRseek Version: 1.49.1 Command: rm -rf CRISPRseek.buildbin-libdir && mkdir CRISPRseek.buildbin-libdir && /Users/biocbuild/BBS/utils/build-universal.sh CRISPRseek_1.49.1.tar.gz /Library/Frameworks/R.framework/Resources/bin/R CRISPRseek.buildbin-libdir StartedAt: 2025-10-13 02:27:43 -0400 (Mon, 13 Oct 2025) EndedAt: 2025-10-13 02:28:45 -0400 (Mon, 13 Oct 2025) EllapsedTime: 62.1 seconds RetCode: 0 Status: OK PackageFile: CRISPRseek_1.49.1.tgz PackageFileSize: 12.12 MiB