Package: CRISPRseek Version: 1.51.0 Maintainer: Lihua Julie Zhu MaintainerEmail: julie.zhu at umassmed.edu git_url: https://git.bioconductor.org/packages/CRISPRseek git_branch: devel git_last_commit: 0934262 git_last_commit_date: 2025-10-29 10:17:22 -0400 (Wed, 29 Oct 2025)