Package: CRISPRball Version: 1.5.0 Command: /Library/Frameworks/R.framework/Resources/bin/R CMD build --keep-empty-dirs --no-resave-data CRISPRball StartedAt: 2025-10-16 17:03:56 -0400 (Thu, 16 Oct 2025) EndedAt: 2025-10-16 17:04:55 -0400 (Thu, 16 Oct 2025) EllapsedTime: 58.6 seconds RetCode: 0 Status: OK PackageFile: CRISPRball_1.5.0.tar.gz PackageFileSize: 2.614 MiB