Package: CRISPRball Version: 1.5.0 Command: rm -rf CRISPRball.buildbin-libdir && mkdir CRISPRball.buildbin-libdir && /Users/biocbuild/BBS/utils/build-universal.sh CRISPRball_1.5.0.tar.gz /Library/Frameworks/R.framework/Resources/bin/R CRISPRball.buildbin-libdir StartedAt: 2025-10-17 03:45:00 -0400 (Fri, 17 Oct 2025) EndedAt: 2025-10-17 03:45:52 -0400 (Fri, 17 Oct 2025) EllapsedTime: 51.6 seconds RetCode: 0 Status: OK PackageFile: CRISPRball_1.5.0.tgz PackageFileSize: 2.298 MiB