Package: CPSM Version: 1.1.4 Command: /home/biocbuild/R/R/bin/R CMD INSTALL CPSM StartedAt: 2025-10-02 20:57:48 -0000 (Thu, 02 Oct 2025) EndedAt: 2025-10-02 20:58:29 -0000 (Thu, 02 Oct 2025) EllapsedTime: 40.9 seconds RetCode: 0 Status: OK