Package: CPSM Version: 1.1.4 Command: /home/biocbuild/R/R/bin/R CMD build --keep-empty-dirs --no-resave-data CPSM StartedAt: 2025-10-02 23:06:14 -0000 (Thu, 02 Oct 2025) EndedAt: 2025-10-02 23:11:32 -0000 (Thu, 02 Oct 2025) EllapsedTime: 318.6 seconds RetCode: 0 Status: OK PackageFile: CPSM_1.1.4.tar.gz PackageFileSize: 3.871 MiB