Package: CPSM Version: 1.1.3 Command: F:\biocbuild\bbs-3.22-bioc\R\bin\R.exe CMD INSTALL CPSM StartedAt: 2025-08-14 16:18:25 -0400 (Thu, 14 Aug 2025) EndedAt: 2025-08-14 16:19:16 -0400 (Thu, 14 Aug 2025) EllapsedTime: 50.7 seconds RetCode: 0 Status: OK