Package: CPSM Version: 1.1.3 Command: chmod a+r CPSM -R && F:\biocbuild\bbs-3.22-bioc\R\bin\R.exe CMD build --keep-empty-dirs --no-resave-data CPSM StartedAt: 2025-08-14 19:20:43 -0400 (Thu, 14 Aug 2025) EndedAt: 2025-08-14 19:22:34 -0400 (Thu, 14 Aug 2025) EllapsedTime: 111.1 seconds RetCode: 0 Status: OK PackageFile: CPSM_1.1.3.tar.gz PackageFileSize: 3.704 MiB