Package: CPSM Version: 1.1.3 Command: rm -rf CPSM.buildbin-libdir && mkdir CPSM.buildbin-libdir && F:\biocbuild\bbs-3.22-bioc\R\bin\R.exe CMD INSTALL --build --library=CPSM.buildbin-libdir CPSM_1.1.3.tar.gz StartedAt: 2025-08-15 10:02:13 -0400 (Fri, 15 Aug 2025) EndedAt: 2025-08-15 10:03:36 -0400 (Fri, 15 Aug 2025) EllapsedTime: 82.8 seconds RetCode: 0 Status: OK PackageFile: CPSM_1.1.3.zip PackageFileSize: 4.177 MiB