Package: CPSM Version: 1.1.4 Command: /home/biocbuild/bbs-3.22-bioc/R/bin/R CMD INSTALL CPSM StartedAt: 2025-10-06 15:34:03 -0400 (Mon, 06 Oct 2025) EndedAt: 2025-10-06 15:34:35 -0400 (Mon, 06 Oct 2025) EllapsedTime: 31.9 seconds RetCode: 0 Status: OK