Package: CPSM Version: 1.1.4 Command: /home/biocbuild/bbs-3.22-bioc/R/bin/R CMD build --keep-empty-dirs --no-resave-data --md5 CPSM StartedAt: 2025-10-03 16:59:42 -0400 (Fri, 03 Oct 2025) EndedAt: 2025-10-03 17:03:02 -0400 (Fri, 03 Oct 2025) EllapsedTime: 200.3 seconds RetCode: 0 Status: OK PackageFile: CPSM_1.1.4.tar.gz PackageFileSize: 4.362 MiB