Package: CPSM Version: 1.3.0 Command: /home/biocbuild/bbs-3.23-bioc/R/bin/R CMD INSTALL CPSM StartedAt: 2025-10-31 15:44:49 -0400 (Fri, 31 Oct 2025) EndedAt: 2025-10-31 15:45:24 -0400 (Fri, 31 Oct 2025) EllapsedTime: 34.6 seconds RetCode: 0 Status: OK