Package: CPSM Version: 1.3.0 Command: /home/biocbuild/bbs-3.23-bioc/R/bin/R CMD check --install=check:CPSM.install-out.txt --library=/home/biocbuild/bbs-3.23-bioc/R/site-library --timings CPSM_1.3.0.tar.gz StartedAt: 2025-11-05 22:20:15 -0500 (Wed, 05 Nov 2025) EndedAt: 2025-11-05 22:27:58 -0500 (Wed, 05 Nov 2025) EllapsedTime: 463.6 seconds RetCode: 0 Status: OK CheckDir: CPSM.Rcheck Warnings: 0