Package: CPSM Version: 1.3.0 Command: /home/biocbuild/bbs-3.23-bioc/R/bin/R CMD build --keep-empty-dirs --no-resave-data CPSM StartedAt: 2025-10-31 17:13:29 -0400 (Fri, 31 Oct 2025) EndedAt: 2025-10-31 17:16:02 -0400 (Fri, 31 Oct 2025) EllapsedTime: 153.1 seconds RetCode: 0 Status: OK PackageFile: CPSM_1.3.0.tar.gz PackageFileSize: 4.359 MiB