Package: CPSM Version: 1.1.4 Command: /Library/Frameworks/R.framework/Resources/bin/R CMD build --keep-empty-dirs --no-resave-data CPSM StartedAt: 2025-10-03 16:33:19 -0400 (Fri, 03 Oct 2025) EndedAt: 2025-10-03 16:36:32 -0400 (Fri, 03 Oct 2025) EllapsedTime: 193.2 seconds RetCode: 0 Status: OK PackageFile: CPSM_1.1.4.tar.gz PackageFileSize: 4.314 MiB