Package: CPSM Version: 1.1.4 Command: /Library/Frameworks/R.framework/Resources/bin/R CMD build --keep-empty-dirs --no-resave-data CPSM StartedAt: 2025-10-03 16:01:37 -0400 (Fri, 03 Oct 2025) EndedAt: 2025-10-03 16:02:33 -0400 (Fri, 03 Oct 2025) EllapsedTime: 56.6 seconds RetCode: 0 Status: OK PackageFile: CPSM_1.1.4.tar.gz PackageFileSize: 4.315 MiB