Package: CPSM Version: 1.1.4 Maintainer: Harpreet Kaur MaintainerEmail: hks04180 at gmail.com git_url: https://git.bioconductor.org/packages/CPSM git_branch: devel git_last_commit: 2fd0047 git_last_commit_date: 2025-09-22 17:11:10 -0400 (Mon, 22 Sep 2025)