Package: COTAN Version: 2.11.0 Command: /home/biocbuild/bbs-3.23-bioc/R/bin/R CMD INSTALL COTAN StartedAt: 2025-11-20 15:52:17 -0500 (Thu, 20 Nov 2025) EndedAt: 2025-11-20 15:53:04 -0500 (Thu, 20 Nov 2025) EllapsedTime: 46.8 seconds RetCode: 0 Status: OK