Package: COTAN Version: 2.11.0 Command: /home/biocbuild/bbs-3.23-bioc/R/bin/R CMD build --keep-empty-dirs --no-resave-data COTAN StartedAt: 2025-11-20 17:00:04 -0500 (Thu, 20 Nov 2025) EndedAt: 2025-11-20 17:08:16 -0500 (Thu, 20 Nov 2025) EllapsedTime: 492.4 seconds RetCode: 0 Status: OK PackageFile: COTAN_2.11.0.tar.gz PackageFileSize: 3.847 MiB